Package: bambu Version: 3.2.6 Command: rm -rf bambu.buildbin-libdir && mkdir bambu.buildbin-libdir && F:\biocbuild\bbs-3.17-bioc\R\bin\R.exe CMD INSTALL --build --library=bambu.buildbin-libdir bambu_3.2.6.tar.gz StartedAt: 2023-10-16 08:26:27 -0400 (Mon, 16 Oct 2023) EndedAt: 2023-10-16 08:28:07 -0400 (Mon, 16 Oct 2023) EllapsedTime: 100.4 seconds RetCode: 0 Status: OK PackageFile: bambu_3.2.6.zip PackageFileSize: 2.157 MiB