Package: ballgown Version: 2.32.0 Command: /Library/Frameworks/R.framework/Resources/bin/R CMD check --install=check:ballgown.install-out.txt --library=/Library/Frameworks/R.framework/Resources/library --no-vignettes --timings ballgown_2.32.0.tar.gz StartedAt: 2023-10-15 22:42:06 -0400 (Sun, 15 Oct 2023) EndedAt: 2023-10-15 22:58:38 -0400 (Sun, 15 Oct 2023) EllapsedTime: 991.9 seconds RetCode: 0 Status: OK CheckDir: ballgown.Rcheck Warnings: 0