Package: ballgown Version: 2.32.0 Command: rm -rf ballgown.buildbin-libdir && mkdir ballgown.buildbin-libdir && /Users/biocbuild/BBS/utils/build-universal.sh ballgown_2.32.0.tar.gz /Library/Frameworks/R.framework/Resources/bin/R ballgown.buildbin-libdir StartedAt: 2023-10-16 08:59:18 -0400 (Mon, 16 Oct 2023) EndedAt: 2023-10-16 09:01:42 -0400 (Mon, 16 Oct 2023) EllapsedTime: 144.3 seconds RetCode: 0 Status: OK PackageFile: ballgown_2.32.0.tgz PackageFileSize: 3.274 MiB