Package: bacon Version: 1.28.0 Command: /home/biocbuild/bbs-3.17-bioc/R/bin/R CMD build --keep-empty-dirs --no-resave-data bacon StartedAt: 2023-10-15 15:58:26 -0400 (Sun, 15 Oct 2023) EndedAt: 2023-10-15 15:58:58 -0400 (Sun, 15 Oct 2023) EllapsedTime: 32.6 seconds RetCode: 0 Status: OK PackageFile: bacon_1.28.0.tar.gz PackageFileSize: 1.761 MiB