Package: autonomics Version: 1.8.0 Command: chmod a+r autonomics -R && F:\biocbuild\bbs-3.17-bioc\R\bin\R.exe CMD build --keep-empty-dirs --no-resave-data autonomics StartedAt: 2023-10-15 17:25:40 -0400 (Sun, 15 Oct 2023) EndedAt: 2023-10-15 17:29:03 -0400 (Sun, 15 Oct 2023) EllapsedTime: 202.6 seconds RetCode: 0 Status: OK PackageFile: autonomics_1.8.0.tar.gz PackageFileSize: 1.198 MiB