Package: autonomics Version: 1.8.0 Command: rm -rf autonomics.buildbin-libdir && mkdir autonomics.buildbin-libdir && F:\biocbuild\bbs-3.17-bioc\R\bin\R.exe CMD INSTALL --build --library=autonomics.buildbin-libdir autonomics_1.8.0.tar.gz StartedAt: 2023-10-16 08:25:58 -0400 (Mon, 16 Oct 2023) EndedAt: 2023-10-16 08:26:49 -0400 (Mon, 16 Oct 2023) EllapsedTime: 50.5 seconds RetCode: 0 Status: OK PackageFile: autonomics_1.8.0.zip PackageFileSize: 1.686 MiB