Package: autonomics Version: 1.8.0 Command: rm -rf autonomics.buildbin-libdir && mkdir autonomics.buildbin-libdir && /Users/biocbuild/BBS/utils/build-universal.sh autonomics_1.8.0.tar.gz /Library/Frameworks/R.framework/Resources/bin/R autonomics.buildbin-libdir StartedAt: 2023-10-16 08:58:58 -0400 (Mon, 16 Oct 2023) EndedAt: 2023-10-16 09:00:37 -0400 (Mon, 16 Oct 2023) EllapsedTime: 99.0 seconds RetCode: 0 Status: OK PackageFile: autonomics_1.8.0.tgz PackageFileSize: 2.946 MiB