Package: attract Version: 1.52.0 Command: F:\biocbuild\bbs-3.17-bioc\R\bin\R.exe CMD INSTALL attract StartedAt: 2023-10-15 16:39:36 -0400 (Sun, 15 Oct 2023) EndedAt: 2023-10-15 16:40:06 -0400 (Sun, 15 Oct 2023) EllapsedTime: 30.2 seconds RetCode: 0 Status: OK