Package: attract Version: 1.52.0 Command: chmod a+r attract -R && F:\biocbuild\bbs-3.17-bioc\R\bin\R.exe CMD build --keep-empty-dirs --no-resave-data attract StartedAt: 2023-10-15 17:25:21 -0400 (Sun, 15 Oct 2023) EndedAt: 2023-10-15 17:27:41 -0400 (Sun, 15 Oct 2023) EllapsedTime: 140.0 seconds RetCode: 0 Status: OK PackageFile: attract_1.52.0.tar.gz PackageFileSize: 4.207 MiB