Package: attract Version: 1.52.0 Command: rm -rf attract.buildbin-libdir && mkdir attract.buildbin-libdir && F:\biocbuild\bbs-3.17-bioc\R\bin\R.exe CMD INSTALL --build --library=attract.buildbin-libdir attract_1.52.0.tar.gz StartedAt: 2023-10-16 08:25:52 -0400 (Mon, 16 Oct 2023) EndedAt: 2023-10-16 08:26:27 -0400 (Mon, 16 Oct 2023) EllapsedTime: 35.1 seconds RetCode: 0 Status: OK PackageFile: attract_1.52.0.zip PackageFileSize: 4.277 MiB