Package: attract Version: 1.52.0 Command: /Library/Frameworks/R.framework/Resources/bin/R CMD check --install=check:attract.install-out.txt --library=/Library/Frameworks/R.framework/Resources/library --no-vignettes --timings attract_1.52.0.tar.gz StartedAt: 2023-10-15 22:38:59 -0400 (Sun, 15 Oct 2023) EndedAt: 2023-10-15 22:51:52 -0400 (Sun, 15 Oct 2023) EllapsedTime: 773.8 seconds RetCode: 0 Status: OK CheckDir: attract.Rcheck Warnings: 0