Package: attract Version: 1.52.0 Command: rm -rf attract.buildbin-libdir && mkdir attract.buildbin-libdir && /Users/biocbuild/BBS/utils/build-universal.sh attract_1.52.0.tar.gz /Library/Frameworks/R.framework/Resources/bin/R attract.buildbin-libdir StartedAt: 2023-10-16 08:58:55 -0400 (Mon, 16 Oct 2023) EndedAt: 2023-10-16 09:00:14 -0400 (Mon, 16 Oct 2023) EllapsedTime: 79.0 seconds RetCode: 0 Status: OK PackageFile: attract_1.52.0.tgz PackageFileSize: 4.363 MiB