Package: atena Version: 1.6.0 Command: rm -rf atena.buildbin-libdir && mkdir atena.buildbin-libdir && F:\biocbuild\bbs-3.17-bioc\R\bin\R.exe CMD INSTALL --build --library=atena.buildbin-libdir atena_1.6.0.tar.gz StartedAt: 2023-10-16 08:25:48 -0400 (Mon, 16 Oct 2023) EndedAt: 2023-10-16 08:26:33 -0400 (Mon, 16 Oct 2023) EllapsedTime: 45.0 seconds RetCode: 0 Status: OK PackageFile: atena_1.6.0.zip PackageFileSize: 1.558 MiB