Package: atena Version: 1.6.0 Command: /home/biocbuild/bbs-3.17-bioc/R/bin/R CMD INSTALL atena StartedAt: 2023-10-15 15:49:31 -0400 (Sun, 15 Oct 2023) EndedAt: 2023-10-15 15:50:06 -0400 (Sun, 15 Oct 2023) EllapsedTime: 35.3 seconds RetCode: 0 Status: OK