Package: atena Version: 1.6.0 Command: /home/biocbuild/bbs-3.17-bioc/R/bin/R CMD check --install=check:atena.install-out.txt --library=/home/biocbuild/bbs-3.17-bioc/R/site-library --timings atena_1.6.0.tar.gz StartedAt: 2023-10-15 19:17:11 -0400 (Sun, 15 Oct 2023) EndedAt: 2023-10-15 19:28:28 -0400 (Sun, 15 Oct 2023) EllapsedTime: 677.8 seconds RetCode: 0 Status: OK CheckDir: atena.Rcheck Warnings: 0