Package: atena Version: 1.6.0 Command: /home/biocbuild/bbs-3.17-bioc/R/bin/R CMD build --keep-empty-dirs --no-resave-data atena StartedAt: 2023-10-15 15:57:31 -0400 (Sun, 15 Oct 2023) EndedAt: 2023-10-15 15:59:08 -0400 (Sun, 15 Oct 2023) EllapsedTime: 97.1 seconds RetCode: 0 Status: OK PackageFile: atena_1.6.0.tar.gz PackageFileSize: 1.124 MiB