Package: atena Version: 1.6.0 Command: /Library/Frameworks/R.framework/Resources/bin/R CMD INSTALL atena StartedAt: 2023-10-15 16:29:40 -0400 (Sun, 15 Oct 2023) EndedAt: 2023-10-15 16:31:33 -0400 (Sun, 15 Oct 2023) EllapsedTime: 113.1 seconds RetCode: 0 Status: OK