Package: atSNP Version: 1.16.0 Command: chmod a+r atSNP -R && F:\biocbuild\bbs-3.17-bioc\R\bin\R.exe CMD build --keep-empty-dirs --no-resave-data atSNP StartedAt: 2023-10-15 17:25:10 -0400 (Sun, 15 Oct 2023) EndedAt: 2023-10-15 17:26:36 -0400 (Sun, 15 Oct 2023) EllapsedTime: 85.6 seconds RetCode: 0 Status: OK PackageFile: atSNP_1.16.0.tar.gz PackageFileSize: 829.7 KiB