Package: atSNP Version: 1.16.0 Command: rm -rf atSNP.buildbin-libdir && mkdir atSNP.buildbin-libdir && F:\biocbuild\bbs-3.17-bioc\R\bin\R.exe CMD INSTALL --build --library=atSNP.buildbin-libdir atSNP_1.16.0.tar.gz StartedAt: 2023-10-16 08:25:50 -0400 (Mon, 16 Oct 2023) EndedAt: 2023-10-16 08:27:09 -0400 (Mon, 16 Oct 2023) EllapsedTime: 79.2 seconds RetCode: 0 Status: OK PackageFile: atSNP_1.16.0.zip PackageFileSize: 1.291 MiB