Package: atSNP Version: 1.16.0 Command: /home/biocbuild/bbs-3.17-bioc/R/bin/R CMD build --keep-empty-dirs --no-resave-data atSNP StartedAt: 2023-10-15 15:57:36 -0400 (Sun, 15 Oct 2023) EndedAt: 2023-10-15 15:59:02 -0400 (Sun, 15 Oct 2023) EllapsedTime: 86.1 seconds RetCode: 0 Status: OK PackageFile: atSNP_1.16.0.tar.gz PackageFileSize: 932.2 KiB