Package: atSNP Version: 1.16.0 Command: /Library/Frameworks/R.framework/Resources/bin/R CMD INSTALL atSNP StartedAt: 2023-10-15 15:52:06 -0400 (Sun, 15 Oct 2023) EndedAt: 2023-10-15 15:55:26 -0400 (Sun, 15 Oct 2023) EllapsedTime: 199.6 seconds RetCode: 0 Status: OK