Package: atSNP Version: 1.16.0 Command: /Library/Frameworks/R.framework/Resources/bin/R CMD build --keep-empty-dirs --no-resave-data atSNP StartedAt: 2023-10-15 16:46:08 -0400 (Sun, 15 Oct 2023) EndedAt: 2023-10-15 16:49:29 -0400 (Sun, 15 Oct 2023) EllapsedTime: 200.9 seconds RetCode: 0 Status: OK PackageFile: atSNP_1.16.0.tar.gz PackageFileSize: 935.4 KiB