Package: artMS Version: 1.18.0 Command: chmod a+r artMS -R && F:\biocbuild\bbs-3.17-bioc\R\bin\R.exe CMD build --keep-empty-dirs --no-resave-data artMS StartedAt: 2023-10-15 17:21:29 -0400 (Sun, 15 Oct 2023) EndedAt: 2023-10-15 17:22:28 -0400 (Sun, 15 Oct 2023) EllapsedTime: 59.1 seconds RetCode: 0 Status: OK PackageFile: artMS_1.18.0.tar.gz PackageFileSize: 3.512 MiB