Package: artMS Version: 1.18.0 Command: /home/biocbuild/bbs-3.17-bioc/R/bin/R CMD build --keep-empty-dirs --no-resave-data artMS StartedAt: 2023-10-15 15:56:24 -0400 (Sun, 15 Oct 2023) EndedAt: 2023-10-15 15:57:17 -0400 (Sun, 15 Oct 2023) EllapsedTime: 53.2 seconds RetCode: 0 Status: OK PackageFile: artMS_1.18.0.tar.gz PackageFileSize: 3.819 MiB