Package: artMS Version: 1.18.0 Command: /Library/Frameworks/R.framework/Resources/bin/R CMD INSTALL artMS StartedAt: 2023-10-15 16:19:56 -0400 (Sun, 15 Oct 2023) EndedAt: 2023-10-15 16:21:38 -0400 (Sun, 15 Oct 2023) EllapsedTime: 101.3 seconds RetCode: 0 Status: OK