Package: artMS Version: 1.18.0 Command: rm -rf artMS.buildbin-libdir && mkdir artMS.buildbin-libdir && /Users/biocbuild/BBS/utils/build-universal.sh artMS_1.18.0.tar.gz /Library/Frameworks/R.framework/Resources/bin/R artMS.buildbin-libdir StartedAt: 2023-10-16 08:58:21 -0400 (Mon, 16 Oct 2023) EndedAt: 2023-10-16 09:00:06 -0400 (Mon, 16 Oct 2023) EllapsedTime: 105.2 seconds RetCode: 0 Status: OK PackageFile: artMS_1.18.0.tgz PackageFileSize: 3.234 MiB