Package: arrayQualityMetrics Version: 3.56.0 Command: F:\biocbuild\bbs-3.17-bioc\R\bin\R.exe CMD INSTALL arrayQualityMetrics StartedAt: 2023-10-15 16:37:11 -0400 (Sun, 15 Oct 2023) EndedAt: 2023-10-15 16:37:44 -0400 (Sun, 15 Oct 2023) EllapsedTime: 33.2 seconds RetCode: 0 Status: OK