Package: arrayQualityMetrics Version: 3.56.0 Command: chmod a+r arrayQualityMetrics -R && F:\biocbuild\bbs-3.17-bioc\R\bin\R.exe CMD build --keep-empty-dirs --no-resave-data arrayQualityMetrics StartedAt: 2023-10-15 17:19:44 -0400 (Sun, 15 Oct 2023) EndedAt: 2023-10-15 17:26:08 -0400 (Sun, 15 Oct 2023) EllapsedTime: 384.1 seconds RetCode: 0 Status: OK PackageFile: arrayQualityMetrics_3.56.0.tar.gz PackageFileSize: 599.5 KiB