Package: arrayQuality Version: 1.78.0 Command: F:\biocbuild\bbs-3.17-bioc\R\bin\R.exe CMD INSTALL arrayQuality StartedAt: 2023-10-15 15:53:27 -0400 (Sun, 15 Oct 2023) EndedAt: 2023-10-15 15:53:41 -0400 (Sun, 15 Oct 2023) EllapsedTime: 13.7 seconds RetCode: 0 Status: OK