Package: arrayQuality Version: 1.78.0 Command: /home/biocbuild/bbs-3.17-bioc/R/bin/R CMD check --install=check:arrayQuality.install-out.txt --library=/home/biocbuild/bbs-3.17-bioc/R/site-library --timings arrayQuality_1.78.0.tar.gz StartedAt: 2023-10-15 19:13:52 -0400 (Sun, 15 Oct 2023) EndedAt: 2023-10-15 19:14:23 -0400 (Sun, 15 Oct 2023) EllapsedTime: 31.0 seconds RetCode: 0 Status: WARNINGS CheckDir: arrayQuality.Rcheck Warnings: 1