Package: arrayQuality Version: 1.78.0 Command: /home/biocbuild/bbs-3.17-bioc/R/bin/R CMD build --keep-empty-dirs --no-resave-data arrayQuality StartedAt: 2023-10-15 15:56:08 -0400 (Sun, 15 Oct 2023) EndedAt: 2023-10-15 15:56:16 -0400 (Sun, 15 Oct 2023) EllapsedTime: 8.0 seconds RetCode: 0 Status: OK PackageFile: arrayQuality_1.78.0.tar.gz PackageFileSize: 12.82 MiB