Package: arrayQuality Version: 1.78.0 Command: /Library/Frameworks/R.framework/Resources/bin/R CMD check --install=check:arrayQuality.install-out.txt --library=/Library/Frameworks/R.framework/Resources/library --no-vignettes --timings arrayQuality_1.78.0.tar.gz StartedAt: 2023-10-15 22:34:52 -0400 (Sun, 15 Oct 2023) EndedAt: 2023-10-15 22:36:29 -0400 (Sun, 15 Oct 2023) EllapsedTime: 96.7 seconds RetCode: 0 Status: WARNINGS CheckDir: arrayQuality.Rcheck Warnings: 1