Package: arrayMvout Version: 1.58.0 Command: rm -rf arrayMvout.buildbin-libdir && mkdir arrayMvout.buildbin-libdir && F:\biocbuild\bbs-3.17-bioc\R\bin\R.exe CMD INSTALL --build --library=arrayMvout.buildbin-libdir arrayMvout_1.58.0.tar.gz StartedAt: 2023-10-16 08:25:21 -0400 (Mon, 16 Oct 2023) EndedAt: 2023-10-16 08:26:15 -0400 (Mon, 16 Oct 2023) EllapsedTime: 53.9 seconds RetCode: 0 Status: OK PackageFile: arrayMvout_1.58.0.zip PackageFileSize: 756.7 KiB