Package: arrayMvout Version: 1.58.0 Command: /home/biocbuild/bbs-3.17-bioc/R/bin/R CMD build --keep-empty-dirs --no-resave-data arrayMvout StartedAt: 2023-10-15 15:56:07 -0400 (Sun, 15 Oct 2023) EndedAt: 2023-10-15 15:57:12 -0400 (Sun, 15 Oct 2023) EllapsedTime: 65.1 seconds RetCode: 0 Status: OK PackageFile: arrayMvout_1.58.0.tar.gz PackageFileSize: 582.5 KiB