Package: arrayMvout Version: 1.58.0 Command: /Library/Frameworks/R.framework/Resources/bin/R CMD check --install=check:arrayMvout.install-out.txt --library=/Library/Frameworks/R.framework/Resources/library --no-vignettes --timings arrayMvout_1.58.0.tar.gz StartedAt: 2023-10-15 22:34:52 -0400 (Sun, 15 Oct 2023) EndedAt: 2023-10-15 22:46:50 -0400 (Sun, 15 Oct 2023) EllapsedTime: 717.6 seconds RetCode: 0 Status: OK CheckDir: arrayMvout.Rcheck Warnings: 0