Package: arrayMvout Version: 1.58.0 Command: rm -rf arrayMvout.buildbin-libdir && mkdir arrayMvout.buildbin-libdir && /Users/biocbuild/BBS/utils/build-universal.sh arrayMvout_1.58.0.tar.gz /Library/Frameworks/R.framework/Resources/bin/R arrayMvout.buildbin-libdir StartedAt: 2023-10-16 08:58:14 -0400 (Mon, 16 Oct 2023) EndedAt: 2023-10-16 09:00:44 -0400 (Mon, 16 Oct 2023) EllapsedTime: 150.4 seconds RetCode: 0 Status: OK PackageFile: arrayMvout_1.58.0.tgz PackageFileSize: 860.1 KiB