Package: aroma.light Version: 3.30.0 Command: /home/biocbuild/bbs-3.17-bioc/R/bin/R CMD build --keep-empty-dirs --no-resave-data aroma.light StartedAt: 2023-10-15 15:56:05 -0400 (Sun, 15 Oct 2023) EndedAt: 2023-10-15 15:56:06 -0400 (Sun, 15 Oct 2023) EllapsedTime: 1.6 seconds RetCode: 0 Status: OK PackageFile: aroma.light_3.30.0.tar.gz PackageFileSize: 379.2 KiB