Package: aroma.light Version: 3.30.0 Command: /Library/Frameworks/R.framework/Resources/bin/R CMD INSTALL aroma.light StartedAt: 2023-10-15 15:08:13 -0400 (Sun, 15 Oct 2023) EndedAt: 2023-10-15 15:08:49 -0400 (Sun, 15 Oct 2023) EllapsedTime: 35.8 seconds RetCode: 0 Status: OK