Package: aroma.light Version: 3.30.0 Command: rm -rf aroma.light.buildbin-libdir && mkdir aroma.light.buildbin-libdir && /Users/biocbuild/BBS/utils/build-universal.sh aroma.light_3.30.0.tar.gz /Library/Frameworks/R.framework/Resources/bin/R aroma.light.buildbin-libdir StartedAt: 2023-10-16 08:58:13 -0400 (Mon, 16 Oct 2023) EndedAt: 2023-10-16 08:58:29 -0400 (Mon, 16 Oct 2023) EllapsedTime: 16.5 seconds RetCode: 0 Status: OK PackageFile: aroma.light_3.30.0.tgz PackageFileSize: 597.4 KiB