Package: appreci8R Version: 1.18.0 Command: /home/biocbuild/bbs-3.17-bioc/R/bin/R CMD check --install=check:appreci8R.install-out.txt --library=/home/biocbuild/bbs-3.17-bioc/R/site-library --timings appreci8R_1.18.0.tar.gz StartedAt: 2023-10-15 19:13:45 -0400 (Sun, 15 Oct 2023) EndedAt: 2023-10-15 19:22:41 -0400 (Sun, 15 Oct 2023) EllapsedTime: 535.2 seconds RetCode: 0 Status: WARNINGS CheckDir: appreci8R.Rcheck Warnings: 1