Package: appreci8R Version: 1.18.0 Command: /Library/Frameworks/R.framework/Resources/bin/R CMD INSTALL appreci8R StartedAt: 2023-10-15 16:34:45 -0400 (Sun, 15 Oct 2023) EndedAt: 2023-10-15 16:37:01 -0400 (Sun, 15 Oct 2023) EllapsedTime: 135.3 seconds RetCode: 0 Status: OK