Package: appreci8R Version: 1.18.0 Command: /Library/Frameworks/R.framework/Resources/bin/R CMD check --install=check:appreci8R.install-out.txt --library=/Library/Frameworks/R.framework/Resources/library --no-vignettes --timings appreci8R_1.18.0.tar.gz StartedAt: 2023-10-15 22:34:42 -0400 (Sun, 15 Oct 2023) EndedAt: 2023-10-15 22:48:59 -0400 (Sun, 15 Oct 2023) EllapsedTime: 856.9 seconds RetCode: 0 Status: WARNINGS CheckDir: appreci8R.Rcheck Warnings: 1