Package: appreci8R Version: 1.18.0 Command: rm -rf appreci8R.buildbin-libdir && mkdir appreci8R.buildbin-libdir && /Users/biocbuild/BBS/utils/build-universal.sh appreci8R_1.18.0.tar.gz /Library/Frameworks/R.framework/Resources/bin/R appreci8R.buildbin-libdir StartedAt: 2023-10-16 08:58:13 -0400 (Mon, 16 Oct 2023) EndedAt: 2023-10-16 09:02:31 -0400 (Mon, 16 Oct 2023) EllapsedTime: 257.7 seconds RetCode: 0 Status: OK PackageFile: appreci8R_1.18.0.tgz PackageFileSize: 1.463 MiB