Package: apComplex Version: 2.66.0 Command: chmod a+r apComplex -R && F:\biocbuild\bbs-3.17-bioc\R\bin\R.exe CMD build --keep-empty-dirs --no-resave-data apComplex StartedAt: 2023-10-15 17:16:36 -0400 (Sun, 15 Oct 2023) EndedAt: 2023-10-15 17:17:01 -0400 (Sun, 15 Oct 2023) EllapsedTime: 25.0 seconds RetCode: 0 Status: OK PackageFile: apComplex_2.66.0.tar.gz PackageFileSize: 628.5 KiB