Package: antiProfiles Version: 1.40.0 Command: /home/biocbuild/bbs-3.17-bioc/R/bin/R CMD build --keep-empty-dirs --no-resave-data antiProfiles StartedAt: 2023-10-15 15:55:32 -0400 (Sun, 15 Oct 2023) EndedAt: 2023-10-15 15:55:38 -0400 (Sun, 15 Oct 2023) EllapsedTime: 6.3 seconds RetCode: 0 Status: OK PackageFile: antiProfiles_1.40.0.tar.gz PackageFileSize: 110.6 KiB