Package: anota2seq Version: 1.22.0 Command: F:\biocbuild\bbs-3.17-bioc\R\bin\R.exe CMD INSTALL anota2seq StartedAt: 2023-10-15 16:43:01 -0400 (Sun, 15 Oct 2023) EndedAt: 2023-10-15 16:43:37 -0400 (Sun, 15 Oct 2023) EllapsedTime: 35.7 seconds RetCode: 0 Status: OK