Package: anota2seq Version: 1.22.0 Command: rm -rf anota2seq.buildbin-libdir && mkdir anota2seq.buildbin-libdir && F:\biocbuild\bbs-3.17-bioc\R\bin\R.exe CMD INSTALL --build --library=anota2seq.buildbin-libdir anota2seq_1.22.0.tar.gz StartedAt: 2023-10-16 08:24:59 -0400 (Mon, 16 Oct 2023) EndedAt: 2023-10-16 08:25:35 -0400 (Mon, 16 Oct 2023) EllapsedTime: 36.8 seconds RetCode: 0 Status: OK PackageFile: anota2seq_1.22.0.zip PackageFileSize: 1.563 MiB