Package: anota2seq Version: 1.22.0 Command: /home/biocbuild/bbs-3.17-bioc/R/bin/R CMD build --keep-empty-dirs --no-resave-data anota2seq StartedAt: 2023-10-15 15:55:31 -0400 (Sun, 15 Oct 2023) EndedAt: 2023-10-15 15:57:55 -0400 (Sun, 15 Oct 2023) EllapsedTime: 143.5 seconds RetCode: 0 Status: OK PackageFile: anota2seq_1.22.0.tar.gz PackageFileSize: 1004 KiB