Package: anota2seq Version: 1.22.0 Command: /Library/Frameworks/R.framework/Resources/bin/R CMD INSTALL anota2seq StartedAt: 2023-10-15 16:06:51 -0400 (Sun, 15 Oct 2023) EndedAt: 2023-10-15 16:08:31 -0400 (Sun, 15 Oct 2023) EllapsedTime: 100.8 seconds RetCode: 0 Status: OK