Package: anota Version: 1.48.0 Command: /Library/Frameworks/R.framework/Resources/bin/R CMD INSTALL anota StartedAt: 2023-10-15 16:07:09 -0400 (Sun, 15 Oct 2023) EndedAt: 2023-10-15 16:07:40 -0400 (Sun, 15 Oct 2023) EllapsedTime: 31.7 seconds RetCode: 0 Status: OK